BEGIN:VCALENDAR
VERSION:2.0
PRODID:-//ExpressionEngine Easy iCalendar plugin//NONSGML v2.0.1//EN
X-WR-TIMEZONE:America/Chicago
X-WR-CALNAME:Upcoming Auctions
BEGIN:VEVENT
UID:101094
DTSTAMP:20230523T123700
DTSTART:20230523T123700
DTEND:20230608T180000
SUMMARY:Farm Tractors\, Implements\, Hydraulic Lift Table\, Gantry Cran
 e\, Lawnmowers & More - Watertown\, WI
LOCATION:414 Water Tower Court\, Watertown\, WI 53094\, US
DESCRIPTION:10% Buyer’s Fee\; OPEN HOUSE: Tuesday\, June 6th (10:00am-3:
 00pm)\; PICK UP: By appointment on Monday\, June 12th (9:00am-
 4:00pm).
URL:https://www.hansenauctiongroup.com/auctions/detail/bw101094
SEQUENCE:1
END:VEVENT
END:VCALENDAR