BEGIN:VCALENDAR
VERSION:2.0
PRODID:-//ExpressionEngine Easy iCalendar plugin//NONSGML v2.0.1//EN
X-WR-TIMEZONE:America/Chicago
X-WR-CALNAME:Upcoming Auctions
BEGIN:VEVENT
UID:101265
DTSTAMP:20230526T150000
DTSTART:20230526T150000
DTEND:20230605T180000
SUMMARY:Fundraiser Auction For Deputy Kaitie Leising - Downing\,WI
LOCATION:E1026 State Road 170\, Downing\, WI 54734\, US
DESCRIPTION:10% Buyer’s Fee\; OPEN HOUSE: During Normal Business Hours 
 (8:00am - 4:00pm)\; PICK UP: By appointment on Wednesday\, Jun
 e 7th (8:30am-3:30pm)\, Thursday\, June 8th (8:30am-3:30pm)\, a
 nd Friday\, June 9th (8:30am- 3:30pm).
URL:https://www.hansenauctiongroup.com/auctions/detail/bw101265
SEQUENCE:1
END:VEVENT
END:VCALENDAR