BEGIN:VCALENDAR
VERSION:2.0
PRODID:-//ExpressionEngine Easy iCalendar plugin//NONSGML v2.0.1//EN
X-WR-TIMEZONE:America/Chicago
X-WR-CALNAME:Upcoming Auctions
BEGIN:VEVENT
UID:102175
DTSTAMP:20230620T102900
DTSTART:20230620T102900
DTEND:20230713T180000
SUMMARY:Bigelow Auction Service - Hausz Brothers Excess Inventory\, L
 ippmann Crusher\, Conveyor & Conveyor Parts & Trailers - Fort
  Atkinson\, WI
LOCATION:W5647 County Road M\, Fort Atkinson\, WI 53538\, US
DESCRIPTION:10% Buyer’s Fee\; OPEN HOUSE: Monday\, July 10th (10:00am-3:
 00pm)\; PICK UP: By appointment on Monday\, July 17th (10:00am
 -3:00pm). Heavy Equipment Loading Will Be Available.
URL:https://www.hansenauctiongroup.com/auctions/detail/bw102175
SEQUENCE:1
END:VEVENT
END:VCALENDAR