BEGIN:VCALENDAR
VERSION:2.0
PRODID:-//ExpressionEngine Easy iCalendar plugin//NONSGML v2.0.0//EN
X-WR-TIMEZONE:America/Chicago
X-WR-CALNAME:Upcoming Auctions
BEGIN:VEVENT
UID:102257
DTSTAMP:20230619T145300
DTSTART:20230619T145300
DTEND:20230706T180000
SUMMARY:Commercial Logging Equipment - Escanaba\, MI
LOCATION:4851 US 2 & 41\, Escanaba\, MI 49829\, US
DESCRIPTION:7% Buyer’s Fee\; OPEN HOUSE: Monday\, June 26th (9:00am-2:00
 pm)\; PICK UP: By appointment on Monday\, July 10th (9:00am-2:
 00pm). Heavy Equipment Loading Will Be Available.
URL:https://www.hansenauctiongroup.com/auctions/detail/bw102257
SEQUENCE:1
END:VEVENT
END:VCALENDAR