BEGIN:VCALENDAR
VERSION:2.0
PRODID:-//ExpressionEngine Easy iCalendar plugin//NONSGML v2.0.1//EN
X-WR-TIMEZONE:America/Chicago
X-WR-CALNAME:Upcoming Auctions
BEGIN:VEVENT
UID:102930
DTSTAMP:20230821T163400
DTSTART:20230821T163400
DTEND:20230911T180000
SUMMARY:James & Terri Jo Litscher - John Deere Skid Steer\, John Deer
 e Gator\, Ford Tractor\, Gates\, Hay Bedding\, Shop Items & Hous
 ehold - Fountain City\, WI
LOCATION:W450 Buehler Valley Road\, Fountain City\, WI 54629\, US
DESCRIPTION:10% Buyer’s Fee\; OPEN HOUSE: Wednesday\, September 6th (10:
 00am-2:00pm)\; PICK UP: By appointment on Wednesday\, Septembe
 r 13th (10:00am-2:00pm)
URL:https://www.hansenauctiongroup.com/auctions/detail/bw102930
SEQUENCE:1
END:VEVENT
END:VCALENDAR