BEGIN:VCALENDAR
VERSION:2.0
PRODID:-//ExpressionEngine Easy iCalendar plugin//NONSGML v2.0.1//EN
X-WR-TIMEZONE:America/Chicago
X-WR-CALNAME:Upcoming Auctions
BEGIN:VEVENT
UID:104536
DTSTAMP:20230807T161100
DTSTART:20230807T161100
DTEND:20230822T180000
SUMMARY:Vehicles\, Miller Mirrors & Beer Signs\, Automotive Items\, Too
 ls\, Household Items & More - Oshkosh\, WI
LOCATION:910 W Murdock Ave\, Oshkosh\, WI 54901\, US
DESCRIPTION:10% Buyer’s Fee\; OPEN HOUSE: Monday\, August 21st (10:00am-
 3:00pm)\; PICK UP: By appointment on Friday\, August 25th (9:0
 0am-4:00pm). Heavy Equipment Loading Available.
URL:https://www.hansenauctiongroup.com/auctions/detail/bw104536
SEQUENCE:1
END:VEVENT
END:VCALENDAR