BEGIN:VCALENDAR
VERSION:2.0
PRODID:-//ExpressionEngine Easy iCalendar plugin//NONSGML v2.0.1//EN
X-WR-TIMEZONE:America/Chicago
X-WR-CALNAME:Upcoming Auctions
BEGIN:VEVENT
UID:106614
DTSTAMP:20230825T145400
DTSTART:20230825T145400
DTEND:20230907T180000
SUMMARY:Communication Line Installation Equipment Dispersal- Fond du
  Lac\, WI
LOCATION:683 Sullivan Drive\, Fond du Lac\, WI 54935\, US
DESCRIPTION:10% Buyer’s Fee\; OPEN HOUSE: Tuesday\, September 5th (10:00
 am-2:00pm)\; PICK UP: Monday\, September 11th (9:00am-3:30pm).
URL:https://www.hansenauctiongroup.com/auctions/detail/bw106614
SEQUENCE:1
END:VEVENT
END:VCALENDAR