BEGIN:VCALENDAR
VERSION:2.0
PRODID:-//ExpressionEngine Easy iCalendar plugin//NONSGML v2.0.1//EN
X-WR-TIMEZONE:America/Chicago
X-WR-CALNAME:Upcoming Auctions
BEGIN:VEVENT
UID:106962
DTSTAMP:20230829T164900
DTSTART:20230829T164900
DTEND:20230911T180000
SUMMARY:1/5 September Auto\, Farm\, Recreational Vehicles\, Lawn & Gard
 en - Neenah\, WI
LOCATION:1000 Rock Ledge Lane\, Neenah\, WI 54956\, US
DESCRIPTION:Lot Numbers: 1000's and 6000's\; 10% Buyer’s Fee\; OPEN HOUS
 E: Thursday\, September 7th (9:00am-4:00pm)\; PICK UP: By appo
 intment on Wednesday\, September 13th (9:00am-4:00pm)\, Thursd
 ay\, September 14th (9:00am-5:00pm) and Friday\, September 15t
 h (8:00am-12:00pm). Heavy Equipment Loading Will Be Availabl
 e.
URL:https://www.hansenauctiongroup.com/auctions/detail/bw106962
SEQUENCE:1
END:VEVENT
END:VCALENDAR