BEGIN:VCALENDAR
VERSION:2.0
PRODID:-//ExpressionEngine Easy iCalendar plugin//NONSGML v2.0.0//EN
X-WR-TIMEZONE:America/Chicago
X-WR-CALNAME:Upcoming Auctions
BEGIN:VEVENT
UID:110220
DTSTAMP:20231027T080700
DTSTART:20231027T080700
DTEND:20231107T190000
SUMMARY:4/4 November Industrial Items - Neenah\, WI
LOCATION:1000 Rock Ledge Lane\, Neenah\, WI 54956\, US
DESCRIPTION:Lot Numbers: 2000's\; 10% Buyer’s Fee\; OPEN HOUSE: Thursday
 \, November 2nd (9:00am-4:00pm)\; PICK UP: By appointment on W
 ednesday\, November 8th (9:00am-4:00pm)\, Thursday\, November 9
 th (9:00am-5:00pm) and Friday\, November 10th (8:00am-12:00pm
 ). Heavy Equipment Loading Will Be Available.
URL:https://www.hansenauctiongroup.com/auctions/detail/bw110220
SEQUENCE:1
END:VEVENT
END:VCALENDAR