BEGIN:VCALENDAR
VERSION:2.0
PRODID:-//ExpressionEngine Easy iCalendar plugin//NONSGML v2.0.1//EN
X-WR-TIMEZONE:America/Chicago
X-WR-CALNAME:Upcoming Auctions
BEGIN:VEVENT
UID:112648
DTSTAMP:20240408T095800
DTSTART:20240408T095800
DTEND:20240422T130000
SUMMARY:April Downing Consignment - Downing\, WI
LOCATION:E1026 State Road 170\, Downing\, WI 54734\, US
DESCRIPTION:10% Buyer’s Fee\; OPEN HOUSE: During Normal Business Hours 
 Monday-Friday (8:00am - 4:00pm)\; PICK UP: By appointment on 
 Tuesday\, April 23rd (8:30am-3:30pm)\, Wednesday\, April 24th (
 8:30am-3:30pm)\, Thursday\, April 25th (8:30am-3:30pm) and Fri
 day\, April 26th (8:30am-12:00pm). Heavy Equipment Loading Wi
 ll Be Available.
URL:https://www.hansenauctiongroup.com/auctions/detail/bw112648
SEQUENCE:1
END:VEVENT
END:VCALENDAR