BEGIN:VCALENDAR
VERSION:2.0
PRODID:-//ExpressionEngine Easy iCalendar plugin//NONSGML v2.0.1//EN
X-WR-TIMEZONE:America/Chicago
X-WR-CALNAME:Upcoming Auctions
BEGIN:VEVENT
UID:115216
DTSTAMP:20240722T150000
DTSTART:20240722T150000
DTEND:20240813T180000
SUMMARY:August Arcadia Farm & Heavy Equipment Consignment Auction - 
 Arcadia\, WI
LOCATION:N31874 State Road 93\, Arcadia\, WI 54612\, US
DESCRIPTION:10% Buyer’s Fee. OPEN HOUSE: By appointment only. Please c
 all the office at 608-863-8859 to schedule an appointment. P
 ICK UP: By appointment on Thursday\, August 15th (8:30am-3:30
 pm). PAYMENT: Payment must be completed by Thursday\, August 
 15th at 3:30pm. Heavy Equipment Loading Will Be Available.
URL:https://www.hansenauctiongroup.com/auctions/detail/bw115216
SEQUENCE:1
END:VEVENT
END:VCALENDAR