BEGIN:VCALENDAR
VERSION:2.0
PRODID:-//ExpressionEngine Easy iCalendar plugin//NONSGML v2.0.1//EN
X-WR-TIMEZONE:America/Chicago
X-WR-CALNAME:Upcoming Auctions
BEGIN:VEVENT
UID:121191
DTSTAMP:20240610T151000
DTSTART:20240610T151000
DTEND:20240624T180000
SUMMARY:Store Inventory Reduction - Portage\, WI
LOCATION:802 E Albert Street\, Portage\, WI 53901\, US
DESCRIPTION:10% Buyer’s Fee\; OPEN HOUSE: Wednesday\, June 19 (10:00am-2
 :00pm)\; PICK UP: By appointment on Wednesday\, June 26 (9:00a
 m-3:30pm)
URL:https://www.hansenauctiongroup.com/auctions/detail/bw121191
SEQUENCE:1
END:VEVENT
END:VCALENDAR