BEGIN:VCALENDAR
VERSION:2.0
PRODID:-//ExpressionEngine Easy iCalendar plugin//NONSGML v2.0.1//EN
X-WR-TIMEZONE:America/Chicago
X-WR-CALNAME:Upcoming Auctions
BEGIN:VEVENT
UID:121602
DTSTAMP:20240610T150800
DTSTART:20240610T150800
DTEND:20240624T180000
SUMMARY:Lawn and Garden\, Shop Tools\, Vintage Gas Pumps & More - Wood
 ruff\, WI
LOCATION:10954 Chippewa Forest Road\, Woodruff\, WI 54568\, US
DESCRIPTION:10% Buyer’s Fee\; OPEN HOUSE: Thursday\, June 20th (10:00am-
 2:00pm)\; PICK UP: By appointment on Wednesday\, June 26th (9:
 00am-3:30pm)
URL:https://www.hansenauctiongroup.com/auctions/detail/bw121602
SEQUENCE:1
END:VEVENT
END:VCALENDAR