BEGIN:VCALENDAR
VERSION:2.0
PRODID:-//ExpressionEngine Easy iCalendar plugin//NONSGML v2.0.1//EN
X-WR-TIMEZONE:America/Chicago
X-WR-CALNAME:Upcoming Auctions
BEGIN:VEVENT
UID:121896
DTSTAMP:20240611T123600
DTSTART:20240611T123600
DTEND:20240624T180000
SUMMARY:Excavators\, Dump Truck\, Trailers\, Attachments & Shop Tools -
  Hartford\, WI
LOCATION:1951B County K\, Hartford\, WI 53027\, US
DESCRIPTION:10% Buyer’s Fee\; OPEN HOUSE: Friday\, June 21st (10:00am-2:
 00pm)\; PICK UP: By appointment on Wednesday\, June 26th (9:00
 am-3:00pm). Heavy Equipment Loading Will Be Available
URL:https://www.hansenauctiongroup.com/auctions/detail/bw121896
SEQUENCE:1
END:VEVENT
END:VCALENDAR