BEGIN:VCALENDAR
VERSION:2.0
PRODID:-//ExpressionEngine Easy iCalendar plugin//NONSGML v2.0.1//EN
X-WR-TIMEZONE:America/Chicago
X-WR-CALNAME:Upcoming Auctions
BEGIN:VEVENT
UID:122556
DTSTAMP:20240624T150300
DTSTART:20240624T150300
DTEND:20240708T180000
SUMMARY:John Deere Dozer\, John Deere Tractor\, Buick SUV\, John Deere 
 Lawnmower\, Shop Tools & Household - Ladysmith\, WI
LOCATION:N9197 Fedyn Rd\, Ladysmith\, WI 54848\, US
DESCRIPTION:10% Buyer’s Fee\; OPEN HOUSE: Tuesday\, July 2nd (10:00am-2:
 00pm)\; PICK UP: By appointment on Thursday\, July 11th (9:30a
 m-3:00pm). No Heavy Equipment Loading Available.
URL:https://www.hansenauctiongroup.com/auctions/detail/bw122556
SEQUENCE:1
END:VEVENT
END:VCALENDAR