BEGIN:VCALENDAR
VERSION:2.0
PRODID:-//ExpressionEngine Easy iCalendar plugin//NONSGML v2.0.1//EN
X-WR-TIMEZONE:America/Denver
X-WR-CALNAME:Upcoming Auctions
BEGIN:VEVENT
UID:122729
DTSTAMP:20240703T150000
DTSTART:20240703T150000
DTEND:20240716T180000
SUMMARY:Business Overstock Liquidation Auction 1 of 2 - Las Cruces\, 
 NM
LOCATION:2600 Lakeside Drive\, Las Cruces\, NM 88005\, US
DESCRIPTION:10% Buyer's Fee\; OPEN HOUSE: During Normal Business Hours Mo
 nday\, July 15th (8:00am-4:00pm)\; PICK UP: By Appointment on 
 Thursday\, July 18th (8:00 am-4:00pm) Heavy Equipment Loading
  Will Be Available.
URL:https://www.hansenauctiongroup.com/auctions/detail/bw122729
SEQUENCE:1
END:VEVENT
END:VCALENDAR