BEGIN:VCALENDAR
VERSION:2.0
PRODID:-//ExpressionEngine Easy iCalendar plugin//NONSGML v2.0.1//EN
X-WR-TIMEZONE:America/Chicago
X-WR-CALNAME:Upcoming Auctions
BEGIN:VEVENT
UID:123691
DTSTAMP:20240729T152200
DTSTART:20240729T152200
DTEND:20240812T180000
SUMMARY:Trailer\, Lawn & Garden\, Vintage & Household - Chippewa Falls
 \, WI
LOCATION:13745 47th Avenue\, Chippewa Falls\, WI 54729\, US
DESCRIPTION:10% Buyer’s Fee\; OPEN HOUSE: Friday\, August 9th (10:00am-2
 :00pm)\; PICK UP: By appointment on Thursday\, August 15th (9:
 00am-3:00pm). No Heavy Equipment Loading Available.
URL:https://www.hansenauctiongroup.com/auctions/detail/bw123691
SEQUENCE:1
END:VEVENT
END:VCALENDAR