BEGIN:VCALENDAR
VERSION:2.0
PRODID:-//ExpressionEngine Easy iCalendar plugin//NONSGML v2.0.1//EN
X-WR-TIMEZONE:America/Chicago
X-WR-CALNAME:Upcoming Auctions
BEGIN:VEVENT
UID:124359
DTSTAMP:20240731T123500
DTSTART:20240731T123500
DTEND:20240819T130000
SUMMARY:1967 Ford Fairlane\, Industrial Kitchen\, & Catering Business 
 Liquidation - Black Earth\, WI
LOCATION:4716 HWY 78\, Black Earth\, WI 53515\, US
DESCRIPTION:10% Buyer’s Fee\; OPEN HOUSE: Friday\, August 16th (10:00am-
 2:00pm)\; PICK UP: By appointment on Wednesday\, August 21st (
 10:00am-2:00pm).
URL:https://www.hansenauctiongroup.com/auctions/detail/bw124359
SEQUENCE:1
END:VEVENT
END:VCALENDAR