BEGIN:VCALENDAR
VERSION:2.0
PRODID:-//ExpressionEngine Easy iCalendar plugin//NONSGML v2.0.0//EN
X-WR-TIMEZONE:America/Chicago
X-WR-CALNAME:Upcoming Auctions
BEGIN:VEVENT
UID:124491
DTSTAMP:20240802T100000
DTSTART:20240802T100000
DTEND:20240820T130000
SUMMARY:Flooring\, Home Decor\, Tools & More - Osseo\, WI
LOCATION:14007 10th Street\, Osseo\, WI 54758\, US
DESCRIPTION:10% Buyer’s Fee\; OPEN HOUSE: Thursday\, August 15th (10:00a
 m-2:00pm)\; PICK UP: By appointment on Thursday\, August 22nd 
 (9:00am-3:30pm). No heavy equipment loading available.
URL:https://www.hansenauctiongroup.com/auctions/detail/bw124491
SEQUENCE:1
END:VEVENT
END:VCALENDAR