BEGIN:VCALENDAR
VERSION:2.0
PRODID:-//ExpressionEngine Easy iCalendar plugin//NONSGML v2.0.1//EN
X-WR-TIMEZONE:America/Chicago
X-WR-CALNAME:Upcoming Auctions
BEGIN:VEVENT
UID:124825
DTSTAMP:20240802T180000
DTSTART:20240802T180000
DTEND:20240813T180000
SUMMARY:4/5 August Industrial Items - Neenah\, WI
LOCATION:1000 Rock Ledge Lane\, Neenah\, WI 54956\, US
DESCRIPTION:10% Buyer’s Fee\; Lot Numbers: 2000s\; OPEN HOUSE: Thursday\,
  August 8th (9:00am-4:00pm)\; PICK UP: By appointment on Wedn
 esday\, August 14th (9:00am-4:00pm)\, Thursday\, August 15th (9
 :00am-5:00pm) and Friday\, August 16th (8:00am-12:00pm). Heav
 y Equipment Loading Will Be Available.
URL:https://www.hansenauctiongroup.com/auctions/detail/bw124825
SEQUENCE:1
END:VEVENT
END:VCALENDAR