BEGIN:VCALENDAR
VERSION:2.0
PRODID:-//ExpressionEngine Easy iCalendar plugin//NONSGML v2.0.0//EN
X-WR-TIMEZONE:America/Chicago
X-WR-CALNAME:Upcoming Auctions
BEGIN:VEVENT
UID:127612
DTSTAMP:20240924T150000
DTSTART:20240924T150000
DTEND:20241008T180000
SUMMARY:Fall Classic Car - Midwest Locations
LOCATION:..................\, .............\, WI ...........\, US
DESCRIPTION:10% Buyer's Fee\; OPEN HOUSE: By appointment only-Please call
  phone number in lot to schedule appointment\; PICK UP: By ap
 pointment only- Please call phone number in lot to schedule 
 appointment\; Payment and pick up must be completed by Tuesda
 y\, October 15th.
URL:https://www.hansenauctiongroup.com/auctions/detail/bw127612
SEQUENCE:1
END:VEVENT
END:VCALENDAR