BEGIN:VCALENDAR
VERSION:2.0
PRODID:-//ExpressionEngine Easy iCalendar plugin//NONSGML v2.0.0//EN
X-WR-TIMEZONE:America/Chicago
X-WR-CALNAME:Upcoming Auctions
BEGIN:VEVENT
UID:129964
DTSTAMP:20241031T162400
DTSTART:20241031T162400
DTEND:20241112T180000
SUMMARY:Trailers\, New Holland\, Tools & More - Oshkosh\, WI
LOCATION:2968 Jackson St\, Oshkosh\, WI 54901\, US
DESCRIPTION:10% Buyer’s Fee\; OPEN HOUSE: Monday\, November 11th (10:00
 am-3:00pm)\; PICK UP: By appointment on Thursday\, November 14
 th (9:00am-3:00pm). Heavy Equipment Loading Will Not Be Avai
 lable.
URL:https://www.hansenauctiongroup.com/auctions/detail/bw129964
SEQUENCE:1
END:VEVENT
END:VCALENDAR