BEGIN:VCALENDAR
VERSION:2.0
PRODID:-//ExpressionEngine Easy iCalendar plugin//NONSGML v2.0.0//EN
X-WR-TIMEZONE:America/Chicago
X-WR-CALNAME:Upcoming Auctions
BEGIN:VEVENT
UID:130168
DTSTAMP:20241101T150000
DTSTART:20241101T150000
DTEND:20241114T180000
SUMMARY:Barron Supply Inventory Liquidation - Barron\, WI
LOCATION:1621 E Division Avenue\, Barron\, WI 54812\, US
DESCRIPTION:10% Buyer’s Fee\; OPEN HOUSE: Monday\, November 11th (10:00
 am-2:00pm)\; PICK UP: By appointment on Tuesday\, November 19
 th (9:30am-3:00pm) Heavy Equipment Loading Available.
URL:https://www.hansenauctiongroup.com/auctions/detail/bw130168
SEQUENCE:1
END:VEVENT
END:VCALENDAR