BEGIN:VCALENDAR
VERSION:2.0
PRODID:-//ExpressionEngine Easy iCalendar plugin//NONSGML v2.0.1//EN
X-WR-TIMEZONE:America/Chicago
X-WR-CALNAME:Upcoming Auctions
BEGIN:VEVENT
UID:134396
DTSTAMP:20250210T150000
DTSTART:20250210T150000
DTEND:20250224T180000
SUMMARY:1 of 2 Estate of Steve Pregent - Forklift\, Shop & Woodworkin
 g Tools - Chippewa Falls\, WI
LOCATION:8988 Hwy 124\, Chippewa Falls\, WI 54729\, US
DESCRIPTION:10% Buyerâ€™s Fee\; OPEN HOUSE: Friday\, February 21st (10:00a
 m-2:00pm)\; PICK UP: By appointment on Thursday\, February 27t
 h (9:30am-3:00pm) and Friday\, February 28th (9:00am-1:00pm)Â
  Â Heavy Equipment Loading Available.
URL:https://www.hansenauctiongroup.com/auctions/detail/bw134396
SEQUENCE:1
END:VEVENT
END:VCALENDAR