BEGIN:VCALENDAR
VERSION:2.0
PRODID:-//ExpressionEngine Easy iCalendar plugin//NONSGML v2.0.1//EN
X-WR-TIMEZONE:America/Chicago
X-WR-CALNAME:Upcoming Auctions
BEGIN:VEVENT
UID:135936
DTSTAMP:20250410T133000
DTSTART:20250410T133000
DTEND:20250501T180000
SUMMARY:Master Carts Estate - Golf Carts\, Golf Cart Parts\, Air Compr
 essors\, Trucks\, Vehicle Hoist\, Tires\, Tools & More - Omro\, W
 I
LOCATION:131 E Main Street\, Omro\, WI 54963\, US
DESCRIPTION:10% Buyer’s Fee\; OPEN HOUSE: Tuesday\, April 29th (9:00am-
 3:00pm)\; PICK UP: By appointment on Monday\, May 5th (8:00am
 -3:00pm) and Tuesday\, May 6th (8:00am-2:00pm). Heavy Equip
 ment Loading Available.  
URL:https://www.hansenauctiongroup.com/auctions/detail/bw135936
SEQUENCE:1
END:VEVENT
END:VCALENDAR