BEGIN:VCALENDAR
VERSION:2.0
PRODID:-//ExpressionEngine Easy iCalendar plugin//NONSGML v2.0.1//EN
X-WR-TIMEZONE:America/Chicago
X-WR-CALNAME:Upcoming Auctions
BEGIN:VEVENT
UID:137737
DTSTAMP:20250331T140000
DTSTART:20250331T140000
DTEND:20250414T180000
SUMMARY:Hantho Outdoor Service - Inventory Reduction Auction - Mower
 s\, Trucks & More - Rockford\, MN
LOCATION:8905 Autumn Oaks Drive\, Rockford\, MN 55373\, US
DESCRIPTION:10% Buyer's Fee\; Open House: Friday\, April 11th (11:00am-3:0
 0pm)\; PICK-UP: By appointment on Wednesday\, April 16th (9:00
 am-3:30pm). Heavy Equipment Loading Will NOT Be Available.
URL:https://www.hansenauctiongroup.com/auctions/detail/bw137737
SEQUENCE:1
END:VEVENT
END:VCALENDAR