BEGIN:VCALENDAR
VERSION:2.0
PRODID:-//ExpressionEngine Easy iCalendar plugin//NONSGML v2.0.1//EN
X-WR-TIMEZONE:America/Chicago
X-WR-CALNAME:Upcoming Auctions
BEGIN:VEVENT
UID:139127
DTSTAMP:20250418T160000
DTSTART:20250418T160000
DTEND:20250501T180000
SUMMARY:IH Tractors\, JD Lawn Tractors\, Snap On Tools\, Hunting\, Vinta
 ge & Antique - New London WI
LOCATION:N4662 Ferry St. \, New London\, WI 54961\, US
DESCRIPTION:10% Buyer’s Fee\; OPEN HOUSE: Tuesday\, April 29th (9:00pm-
 3:00pm)\; PICK UP: By appointment on Tuesday\, May 6th (8:00am
 -4:00pm)\, Heavy Equipment Loading Available.  
URL:https://www.hansenauctiongroup.com/auctions/detail/bw139127
SEQUENCE:1
END:VEVENT
END:VCALENDAR