BEGIN:VCALENDAR
VERSION:2.0
PRODID:-//ExpressionEngine Easy iCalendar plugin//NONSGML v2.0.1//EN
X-WR-TIMEZONE:America/Chicago
X-WR-CALNAME:Upcoming Auctions
BEGIN:VEVENT
UID:142052
DTSTAMP:20250609T150000
DTSTART:20250609T150000
DTEND:20250624T180000
SUMMARY:2 of 2 June 2025 Downing - Auto\, Farm\, Recreational Vehicles
 \, Lawn & Garden - Downing\, WI
LOCATION:E1026 State Road 170\, Downing\, WI 54734\, US
DESCRIPTION:10% Buyerâ€™s Fee\; OPEN HOUSE: During Normal Business Hours 
 Monday-Friday (8:00am - 4:00pm)\; PICK UP: By appointment onÂ
  Wednesday\, June 25thÂ (8:30am-3:30pm)\, Thursday\, June 26thÂ
  (8:30am-3:30pm) and Friday\, June 27thÂ (8:30am-12:00pm). He
 avy Equipment Loading Available.
URL:https://www.hansenauctiongroup.com/auctions/detail/bw142052
SEQUENCE:1
END:VEVENT
END:VCALENDAR