BEGIN:VCALENDAR
VERSION:2.0
PRODID:-//ExpressionEngine Easy iCalendar plugin//NONSGML v2.0.1//EN
X-WR-TIMEZONE:America/Chicago
X-WR-CALNAME:Upcoming Auctions
BEGIN:VEVENT
UID:144420
DTSTAMP:20250723T084300
DTSTART:20250723T084300
DTEND:20250805T180000
SUMMARY:4 of 6 August 2025 Neon Lighted Beer Signs\, Collector Cards\,
  Antiques\, Collectibles\, Tools & More - Neenah\, WI
LOCATION:1000 Rock Ledge Lane\, Neenah\, WI 54956\, US
DESCRIPTION:10% Buyer’s Fee\; OPEN HOUSE: Thursday\, July 31st (9:00am-
 4:00pm)\; PICK UP: By appointment on Wednesday\, August 6th (
 9:00am-4:00pm)\, Thursday\, August 7th (9:00am-5:00pm) and Fr
 iday\, August 8th (8:00am-12:00pm). Heavy Equipment Loading W
 ill Be Available.
URL:https://www.hansenauctiongroup.com/auctions/detail/bw144420
SEQUENCE:1
END:VEVENT
END:VCALENDAR