BEGIN:VCALENDAR
VERSION:2.0
PRODID:-//ExpressionEngine Easy iCalendar plugin//NONSGML v2.0.1//EN
X-WR-TIMEZONE:America/Chicago
X-WR-CALNAME:Upcoming Auctions
BEGIN:VEVENT
UID:149792
DTSTAMP:20251015T150000
DTSTART:20251015T150000
DTEND:20251028T180000
SUMMARY:Mark Tolmie - Kuhn SK110 Speedrake\, Gale Marine Airboat\, Cas
 e 2294 Tractor\, Kuhn FC3160 TLD Discbine & More - Arcadia\, W
 I
LOCATION:N29575 Boberg Lane\, Arcadia\, WI 54612\, US
DESCRIPTION:10% Buyer’s Fee\; OPEN HOUSE: Friday\, October 24th (10:00a
 m - 2:00pm)\; PICK UP: By appointment on Thursday\, October 30
 th (10:00am - 2:00pm). Heavy Equipment Loading Available.
URL:https://www.hansenauctiongroup.com/auctions/detail/bw149792
SEQUENCE:1
END:VEVENT
END:VCALENDAR