BEGIN:VCALENDAR
VERSION:2.0
PRODID:-//ExpressionEngine Easy iCalendar plugin//NONSGML v2.0.1//EN
X-WR-TIMEZONE:America/Chicago
X-WR-CALNAME:Upcoming Auctions
BEGIN:VEVENT
UID:150773
DTSTAMP:20260413T150000
DTSTART:20260413T150000
DTEND:20260504T180000
SUMMARY:1 of 2 May 2026 Fort Atkinson Auction - Fort Atkinson\, WI
LOCATION:N1547 Business 26\, Fort Atkinson\, WI 53538\, US
DESCRIPTION:10% Buyer’s Fee\; OPEN HOUSE: Monday\, May 4th (1:00pm - 4:
 00pm)\; PICK UP: By appointment on Tuesday\, May 5th\, Wednesd
 ay\, May 6th and Thursday\, May 7th (8:30am - 4:00pm). Heav
 y Equipment Loading Available.
URL:https://www.hansenauctiongroup.com/auctions/detail/bw150773
SEQUENCE:1
END:VEVENT
END:VCALENDAR