BEGIN:VCALENDAR
VERSION:2.0
PRODID:-//ExpressionEngine Easy iCalendar plugin//NONSGML v2.0.1//EN
X-WR-TIMEZONE:America/Chicago
X-WR-CALNAME:Upcoming Auctions
BEGIN:VEVENT
UID:156137
DTSTAMP:20260223T150000
DTSTART:20260223T150000
DTEND:20260316T180000
SUMMARY:Dave Stetzer Estate - 2020 Lund Fishing Boat\, Tractors\, Doze
 r\, ATVs\, Equipment & Attachments - Strum\, WI
LOCATION:N45708 Lindberg RD\, Strum\, WI 54770\, US
DESCRIPTION:10% Buyer’s Fee\; OPEN HOUSE: Wednesday\, March 4th (10:00a
 m-2:00pm)\; PICK UP: By appointment on Wednesday\, March 18th
  (10:00am-2:00pm). Heavy Equipment Loading Available.
URL:https://www.hansenauctiongroup.com/auctions/detail/bw156137
SEQUENCE:1
END:VEVENT
END:VCALENDAR