BEGIN:VCALENDAR
VERSION:2.0
PRODID:-//ExpressionEngine Easy iCalendar plugin//NONSGML v2.0.1//EN
X-WR-TIMEZONE:America/Chicago
X-WR-CALNAME:Upcoming Auctions
BEGIN:VEVENT
UID:156875
DTSTAMP:20260223T180500
DTSTART:20260223T180500
DTEND:20260310T180000
SUMMARY:Midwest Attachments\, Mini Skid Steers\, Mini Excavators & Con
 tainers - Kronenwetter\, WI
LOCATION:990 Happy Hollow Road \, Kronenwetter\, WI 54455\, US
DESCRIPTION:10% Buyer’s Fee\; OPEN HOUSE: Monday through Friday (8:30a
 m - 3:30pm)\; PICK UP: By appointment  Monday through Friday
  (8:30am-3:00pm). PAYMENT\; Payment will be due by Tuesday Ma
 rch 17\, 2026. Heavy Equipment Loading Available.
URL:https://www.hansenauctiongroup.com/auctions/detail/bw156875
SEQUENCE:1
END:VEVENT
END:VCALENDAR