BEGIN:VCALENDAR
VERSION:2.0
PRODID:-//ExpressionEngine Easy iCalendar plugin//NONSGML v2.0.1//EN
X-WR-TIMEZONE:America/Chicago
X-WR-CALNAME:Upcoming Auctions
BEGIN:VEVENT
UID:158828
DTSTAMP:20260414T102500
DTSTART:20260414T102500
DTEND:20260429T180000
SUMMARY:Outdoor Opener Firearms Auction - Multiple Location
LOCATION:{location}
DESCRIPTION:10% Buyer’s Fee\; OPEN HOUSE: By appointment only-Please ca
 ll phone number in lot to schedule appointment\; PICK UP: By 
 appointment on Wednesday\, May 6th (9:00am-3:00pm) and Thurs
 day\, May 7th (9:00am-3:00pm).
URL:https://www.hansenauctiongroup.com/auctions/detail/bw158828
SEQUENCE:1
END:VEVENT
END:VCALENDAR