BEGIN:VCALENDAR
VERSION:2.0
PRODID:-//ExpressionEngine Easy iCalendar plugin//NONSGML v2.0.1//EN
X-WR-TIMEZONE:America/Chicago
X-WR-CALNAME:Upcoming Auctions
BEGIN:VEVENT
UID:159737
DTSTAMP:20260429T160000
DTSTART:20260429T160000
DTEND:20260506T180000
SUMMARY:Bichler Auction Services - Feutz Brothers Large Machinery Au
 ction - Farm Machinery\, International 9130 Tractor\, John Dee
 re 9500 Combine & More - Rubicon\, WI
LOCATION:W746 Paine Rd\, Rubicon\, WI 53078\, US
DESCRIPTION:8% Buyer’s Fee\; OPEN HOUSE: Saturday\, May 2nd (8:00am-5:0
 0pm)\; PICK UP: Friday\, May 8th and Saturday\, May 9th (8:00
 am-6:00pm) or By Appointment. 
URL:https://www.hansenauctiongroup.com/auctions/detail/bw159737
SEQUENCE:1
END:VEVENT
END:VCALENDAR