BEGIN:VCALENDAR
VERSION:2.0
PRODID:-//ExpressionEngine Easy iCalendar plugin//NONSGML v2.0.1//EN
X-WR-TIMEZONE:America/Chicago
X-WR-CALNAME:Upcoming Auctions
BEGIN:VEVENT
UID:160211
DTSTAMP:20260415T150000
DTSTART:20260415T150000
DTEND:20260429T180000
SUMMARY:New Insulated Commercial & Residential Garage Doors - Prairi
 e Farm\, WI
LOCATION:301 River Avenue S\, Prairie Farm\, WI 54762\, US
DESCRIPTION:10% Buyer’s Fee\; OPEN HOUSE: By appointment only-Please ca
 ll Travis at 715-418-0339 to schedule appointment\; PICK UP:
  By appointment only- Please call Travis at 715-418-0339 to 
 schedule appointment\; Payment and pick up must be completed 
 by Tuesday\, May 5th
URL:https://www.hansenauctiongroup.com/auctions/detail/bw160211
SEQUENCE:1
END:VEVENT
END:VCALENDAR