BEGIN:VCALENDAR
VERSION:2.0
PRODID:-//ExpressionEngine Easy iCalendar plugin//NONSGML v2.0.1//EN
X-WR-TIMEZONE:America/Chicago
X-WR-CALNAME:Upcoming Auctions
BEGIN:VEVENT
UID:160456
DTSTAMP:20260416T150000
DTSTART:20260416T150000
DTEND:20260504T180000
SUMMARY:Poultry/Pheasant Raising Operation\, Business Retirement\, Tur
 n Key Brood Houses\, Brooders\, Watering Systems\, Feeders\, Cat
 ch Boxes\, Grain Bin – Sussex\, WI
LOCATION:N88W22862 N Lisbon Rd\, Sussex\, WI 53089\, US
DESCRIPTION:10% Buyer’s Fee\; OPEN HOUSE: By appointment only\, please c
 all 414-587-9406 to set up an appointment\; PICK UP: By appoi
 ntment only\, please call 414-587-9406 to set up an appointme
 nt\; Heavy Equipment Loading Available\; Payment must be comp
 leted by Monday\, May 11th
URL:https://www.hansenauctiongroup.com/auctions/detail/bw160456
SEQUENCE:1
END:VEVENT
END:VCALENDAR