BEGIN:VCALENDAR
VERSION:2.0
PRODID:-//ExpressionEngine Easy iCalendar plugin//NONSGML v2.0.0//EN
X-WR-TIMEZONE:America/Chicago
X-WR-CALNAME:Upcoming Auctions
BEGIN:VEVENT
UID:28566
DTSTAMP:20180801T000000
DTSTART:20180801T000000
DTEND:20180827T180000
SUMMARY:Manure Pumping Equipment - Glenwood City\, WI
LOCATION:2959 County Road G\, Glenwood City\, WI 54013\, US
DESCRIPTION:10% BUYERS FEE\; OPEN HOUSE: August 24th\, 2018 (11 am - 3 pm)
 \; PICK UP: Thursday August 30th\, 2018 (11 am - 2 pm)
URL:https://www.hansenauctiongroup.com/auctions/detail/bw28566
SEQUENCE:1
END:VEVENT
END:VCALENDAR