BEGIN:VCALENDAR
VERSION:2.0
PRODID:-//ExpressionEngine Easy iCalendar plugin//NONSGML v2.0.0//EN
X-WR-TIMEZONE:America/Chicago
X-WR-CALNAME:Upcoming Auctions
BEGIN:VEVENT
UID:57680
DTSTAMP:20201128T184900
DTSTART:20201128T184900
DTEND:20201208T180000
SUMMARY:5/6 December 2020 Outdoor Items - Neenah\, WI
LOCATION:1000 Rock Ledge Lane\, Neenah\, WI 54956\, US
DESCRIPTION:Lots 9000's -10% Buyers Premium\; OPEN HOUSE: Thursday\, Decem
 ber 3rd (9-4)\; PICK UP: MUST SCHEDULE APPOINTMENT FOR Wednes
 day\, December 9th (9-4)\, Thursday\, December 10th (9-5) or Fr
 iday\, December 11th (8-12)\; Loading is Available
URL:https://www.hansenauctiongroup.com/auctions/detail/bw57680
SEQUENCE:1
END:VEVENT
END:VCALENDAR