BEGIN:VCALENDAR
VERSION:2.0
PRODID:-//ExpressionEngine Easy iCalendar plugin//NONSGML v2.0.1//EN
X-WR-TIMEZONE:America/Chicago
X-WR-CALNAME:Upcoming Auctions
BEGIN:VEVENT
UID:61274
DTSTAMP:20210312T115200
DTSTART:20210312T115200
DTEND:20210323T180000
SUMMARY:Theme Basket Fundraiser for St. Peter’s Lutheran Confirmat
 ion Class - Loganville\, WI
LOCATION:145 Main Street\, Loganville\, WI 53943\, US
DESCRIPTION:OPEN HOUSE: Normal business hours Monday through Friday (10:
 00am - 5:00pm) PICK UP: Thursday\, March 25th (10:00am - 5:00
 pm) or by appointment.
URL:https://www.hansenauctiongroup.com/auctions/detail/bw61274
SEQUENCE:1
END:VEVENT
END:VCALENDAR