BEGIN:VCALENDAR
VERSION:2.0
PRODID:-//ExpressionEngine Easy iCalendar plugin//NONSGML v2.0.1//EN
X-WR-TIMEZONE:America/Chicago
X-WR-CALNAME:Upcoming Auctions
BEGIN:VEVENT
UID:61860
DTSTAMP:20210326T141700
DTSTART:20210326T141700
DTEND:20210405T180000
SUMMARY:2/6 April 2021 Hardware\, Tools and Industrial Items - Neenah
 \, WI
LOCATION:1000 Rock Ledge Lane\, Neenah\, WI 54956\, US
DESCRIPTION:Lots 10\,000's-10% Buyers Premium\; OPEN HOUSE: Thursday\, Apri
 l 1st (9:00-4:00)\; PICK UP: MUST SCHEDULE APPOINTMENT FOR We
 dnesday\, April 7th (9:00-4:00)\, Thursday\, April 8th (9:00-5:
 00) or Friday\, April 9th (8:00-12:00)\; Loading is Available
URL:https://www.hansenauctiongroup.com/auctions/detail/bw61860
SEQUENCE:1
END:VEVENT
END:VCALENDAR