BEGIN:VCALENDAR
VERSION:2.0
PRODID:-//ExpressionEngine Easy iCalendar plugin//NONSGML v2.0.0//EN
X-WR-TIMEZONE:America/Chicago
X-WR-CALNAME:Upcoming Auctions
BEGIN:VEVENT
UID:61863
DTSTAMP:20210326T141800
DTSTART:20210326T141800
DTEND:20210406T190000
SUMMARY:6/6 April 2021 Industrial Items - Neenah\, WI
LOCATION:1000 Rock Ledge Lane\, Neenah\, WI 54956\, US
DESCRIPTION:Lots 8000's -10% Buyers Premium\; OPEN HOUSE: Thursday\, April
  1st (9:00-4:00)\; PICK UP: MUST SCHEDULE APPOINTMENT FOR Wed
 nesday\, April 7th (9:00-4:00)\, Thursday\, April 8th (9:00-5:0
 0) or Friday\, April 9th (8:00-12:00)\; Loading is Available
URL:https://www.hansenauctiongroup.com/auctions/detail/bw61863
SEQUENCE:1
END:VEVENT
END:VCALENDAR