BEGIN:VCALENDAR
VERSION:2.0
PRODID:-//ExpressionEngine Easy iCalendar plugin//NONSGML v2.0.1//EN
X-WR-TIMEZONE:America/Chicago
X-WR-CALNAME:Upcoming Auctions
BEGIN:VEVENT
UID:63043
DTSTAMP:20210423T114500
DTSTART:20210423T114500
DTEND:20210503T180000
SUMMARY:1/5 May 2021 Auto\, Farm\, Lawn & Garden - Neenah\, WI
LOCATION:1000 Rock Ledge Lane\, Neenah\, WI 54956\, US
DESCRIPTION:Lots 1000's and 2000's-10% Buyers Premium\; OPEN HOUSE: Thurs
 day\, April 29th (9:00-4:00)\; PICK UP: MUST SCHEDULE APPOINTM
 ENT FOR Wednesday\, May 5th (9:00-4:00)\, Thursday\, May 6th (9
 :00-5:00) or Friday\, May 7th (8:00-12:00)\; Loading is Availa
 ble
URL:https://www.hansenauctiongroup.com/auctions/detail/bw63043
SEQUENCE:1
END:VEVENT
END:VCALENDAR