BEGIN:VCALENDAR
VERSION:2.0
PRODID:-//ExpressionEngine Easy iCalendar plugin//NONSGML v2.0.1//EN
X-WR-TIMEZONE:America/Chicago
X-WR-CALNAME:Upcoming Auctions
BEGIN:VEVENT
UID:64341
DTSTAMP:20210521T154000
DTSTART:20210521T154000
DTEND:20210608T180000
SUMMARY:4/5 June 2021 Outdoor Items - Neenah\, WI
LOCATION:1000 Rock Ledge Lane\, Neenah\, WI 54956\, US
DESCRIPTION:Lots 5000's-10% Buyers Premium\; OPEN HOUSE: Thursday\, June 3
 rd (9:00-4:00)\; PICK UP: MUST SCHEDULE APPOINTMENT FOR Wedne
 sday\, June 9th (9:00-4:00)\, Thursday\, June 10th (9:00-5:00) 
 or Friday\, June 11th (8:00-12:00)\; Loading is Available
URL:https://www.hansenauctiongroup.com/auctions/detail/bw64341
SEQUENCE:1
END:VEVENT
END:VCALENDAR