BEGIN:VCALENDAR
VERSION:2.0
PRODID:-//ExpressionEngine Easy iCalendar plugin//NONSGML v2.0.0//EN
X-WR-TIMEZONE:America/Chicago
X-WR-CALNAME:Upcoming Auctions
BEGIN:VEVENT
UID:66094
DTSTAMP:20210706T145100
DTSTART:20210706T145100
DTEND:20210719T180000
SUMMARY:Mechanic's Tools - Downing\, WI
LOCATION:E1026 State Road 170\, Downing\, WI 54734\, US
DESCRIPTION:10% BUYERS FEE\; OPEN HOUSE: Normal Business Hours (8:00 - 4:
 00pm) Monday through Friday\; PICK UP: Wednesday\, July 21st (
 8:00 - 3:30pm)\; Thursday\, July 22nd (8:00 - 3:30pm)\; Friday\,
  July 23rd (8:00 - 3:30pm) and Monday\, July 26th (8:00 - 3:3
 0pm)
URL:https://www.hansenauctiongroup.com/auctions/detail/bw66094
SEQUENCE:1
END:VEVENT
END:VCALENDAR