BEGIN:VCALENDAR
VERSION:2.0
PRODID:-//ExpressionEngine Easy iCalendar plugin//NONSGML v2.0.0//EN
X-WR-TIMEZONE:America/Chicago
X-WR-CALNAME:Upcoming Auctions
BEGIN:VEVENT
UID:68939
DTSTAMP:20210913T102400
DTSTART:20210913T102400
DTEND:20210929T180000
SUMMARY:Living Estate Household Sale - Columbus\, WI
LOCATION:313 Fairway Drive\, Columbus\, WI 53925\, US
DESCRIPTION:10% Buyer's Fee\; OPEN HOUSE: Thursday\, September 23rd (10:00
 am-4:00pm)\; PICK UP: By Appointment on Friday\, October 1 (9:
 00am-4:00pm)
URL:https://www.hansenauctiongroup.com/auctions/detail/bw68939
SEQUENCE:1
END:VEVENT
END:VCALENDAR