BEGIN:VCALENDAR
VERSION:2.0
PRODID:-//ExpressionEngine Easy iCalendar plugin//NONSGML v2.0.1//EN
X-WR-TIMEZONE:America/Chicago
X-WR-CALNAME:Upcoming Auctions
BEGIN:VEVENT
UID:74594
DTSTAMP:20220309T103100
DTSTART:20220309T103100
DTEND:20220322T180000
SUMMARY:March 2022 Monthly Consignment Sale - Construction\, Farm\, He
 avy Trucks & Government Items - Multiple Location
LOCATION:........\, ........\, WI .....\, US
DESCRIPTION:10% Buyer's Fee\; OPEN HOUSE: By Appointment Only\; PICK UP: B
 y Appointment Only - Payment and pickup must be completed b
 y Tuesday\, March 29th. Heavy Equipment Loading Will Be Avail
 able at Some Locations\, Please Call Ahead.
URL:https://www.hansenauctiongroup.com/auctions/detail/bw74594
SEQUENCE:1
END:VEVENT
END:VCALENDAR