BEGIN:VCALENDAR
VERSION:2.0
PRODID:-//ExpressionEngine Easy iCalendar plugin//NONSGML v2.0.1//EN
X-WR-TIMEZONE:America/Chicago
X-WR-CALNAME:Upcoming Auctions
BEGIN:VEVENT
UID:75922
DTSTAMP:20220228T141900
DTSTART:20220228T141900
DTEND:20220314T180000
SUMMARY:Cancer Doesn't Stand A Chance! Benefit Auction For Chance Pe
 ters - Downing\, WI
LOCATION:E1026 State Road 170\, Downing\, WI 54734\, US
DESCRIPTION:OPEN HOUSE: During Normal Business Hours (8:00am - 4:00pm)\; 
 PICK UP: By Appointment on Wednesday\, March 16th (8:30am-3:3
 0pm). Heavy Equipment Loading Will Be Available.
URL:https://www.hansenauctiongroup.com/auctions/detail/bw75922
SEQUENCE:1
END:VEVENT
END:VCALENDAR