BEGIN:VCALENDAR
VERSION:2.0
PRODID:-//ExpressionEngine Easy iCalendar plugin//NONSGML v2.0.1//EN
X-WR-TIMEZONE:America/Chicago
X-WR-CALNAME:Upcoming Auctions
BEGIN:VEVENT
UID:79322
DTSTAMP:20220517T160000
DTSTART:20220517T160000
DTEND:20220524T180000
SUMMARY:May 2022 Monthly Construction\, Ag\, Heavy Trucks\, Trailers an
 d Vehicles Consignment - Multiple Locations
LOCATION:......\, .......\, WI .....\, US
DESCRIPTION:10% Buyer’s Fee\; OPEN HOUSE: By appointment only - Please 
 call phone number in lot to schedule appointment\; PICK UP: B
 y appointment only - Please call phone number in lot to sche
 dule appointment\; Payment and pick up must be completed by T
 uesday\, May 31st.
URL:https://www.hansenauctiongroup.com/auctions/detail/bw79322
SEQUENCE:1
END:VEVENT
END:VCALENDAR