BEGIN:VCALENDAR
VERSION:2.0
PRODID:-//ExpressionEngine Easy iCalendar plugin//NONSGML v2.0.0//EN
X-WR-TIMEZONE:America/Chicago
X-WR-CALNAME:Upcoming Auctions
BEGIN:VEVENT
UID:79922
DTSTAMP:20220422T130100
DTSTART:20220422T130100
DTEND:20220510T180000
SUMMARY:3/4 May 2022 Outdoor Items - Neenah\, WI
LOCATION:1000 Rock Ledge Lane\, Neenah\, WI 54956\, US
DESCRIPTION:Lots 6000's and 7000's\; 10% Buyer’s Fee\; OPEN HOUSE: Thurs
 day\, May 5th (9:00am-4:00pm)\; PICK UP: By appointment on Wed
 nesday\, May 11th (9:00am-4:00pm)\, Thursday\, May 12th (9:00am
 -5:00pm) and Friday\, May 13th (8:00am-12:00pm). Heavy Equipm
 ent Loading Will Be Available.
URL:https://www.hansenauctiongroup.com/auctions/detail/bw79922
SEQUENCE:1
END:VEVENT
END:VCALENDAR